BEGIN:VCALENDAR
VERSION:2.0
PRODID:-//Grégoire &amp; Co - LE LIEU - ECPv6.5.0//NONSGML v1.0//EN
CALSCALE:GREGORIAN
METHOD:PUBLISH
X-WR-CALNAME:Grégoire &amp; Co - LE LIEU
X-ORIGINAL-URL:https://www.ciegregoireandco.fr
X-WR-CALDESC:évènements pour Grégoire &amp; Co - LE LIEU
REFRESH-INTERVAL;VALUE=DURATION:PT1H
X-Robots-Tag:noindex
X-PUBLISHED-TTL:PT1H
BEGIN:VTIMEZONE
TZID:Europe/Paris
BEGIN:DAYLIGHT
TZOFFSETFROM:+0100
TZOFFSETTO:+0200
TZNAME:CEST
DTSTART:20210328T010000
END:DAYLIGHT
BEGIN:STANDARD
TZOFFSETFROM:+0200
TZOFFSETTO:+0100
TZNAME:CET
DTSTART:20211031T010000
END:STANDARD
END:VTIMEZONE
BEGIN:VEVENT
DTSTART;TZID=Europe/Paris:20210531T174500
DTEND;TZID=Europe/Paris:20210531T184500
DTSTAMP:20260426T061221
CREATED:20200828T084524Z
LAST-MODIFIED:20200828T084524Z
UID:13904-1622483100-1622486700@www.ciegregoireandco.fr
SUMMARY:PARCOURS ARTISTIQUE ENFANTS
DESCRIPTION:UN PARCOURS ARTISTIQUE POUR LES ENFANTS DE 5 À 10 ANS \nL’art est essentiel pour nous car il éveille les sensibilités\, actionne d’autres visions du monde\, enrichit notre relation aux autres. Les enfants ont cette aisance naturellement alors il faut que ça dure!  Chaque saison nous imaginons un parcours à vivre et à voir avec les artistes invités au LIEU.\nAller au spectacle\, assister aux répétitions\, rencontrer des chorégraphes\,des danseu.se.r.s\, participer à des ateliers … inventer\, créer\, présenter son spectacle devant un public. \nAteliers hebdomadaires avec les artistes invités au LIEU \nLes lundis du 28 septembre 2020 au 31 mai 2021 de 17h45 à 18h45 (selon calendrier)
URL:https://www.ciegregoireandco.fr/event/parcours-artistique-enfants-7/
LOCATION:LE LIEU – Espace de la Madeleine\, Rue Faven – GUINGAMP\, Rue Faven\, Guingamp\, 22220\, France
CATEGORIES:LE LIEU,pratique(s) pour tous
ATTACH;FMTTYPE=image/jpeg:https://www.ciegregoireandco.fr/wp-content/uploads/2020/08/Parcours-artistique-enfants-e1598907455754.jpg
END:VEVENT
BEGIN:VEVENT
DTSTART;TZID=Europe/Paris:20210531T190000
DTEND;TZID=Europe/Paris:20210531T200000
DTSTAMP:20260426T061221
CREATED:20200827T094135Z
LAST-MODIFIED:20200827T154250Z
UID:13710-1622487600-1622491200@www.ciegregoireandco.fr
SUMMARY:Training contemporain du lundi
DESCRIPTION:TRAINING \n« Avoir une pratique » c’est s’offrir un doux stretching de la pensée et du corps.\nPartager\, ressentir\, se poser\, incorporer par le mouvement\, affirmer sa présence au monde par le corps. \nLe training est construit de façon progressive pour donner à ressentir l’ossature\, la\nmusculature\, les différentes parties du corps\, leurs mises en mouvement\, possibilités et\nlimites. Le travail corporel s’appuie sur la respiration et un rapport à la musique précis\, il invite à une plus grande mobilité\, fluidité\, rapidité\, lâcher-prise. \n  \n  \nTraining contemporain du lundi du 28 septembre au 14 juin 2021 (selon calendrier) \nSoir de 19h à 20h
URL:https://www.ciegregoireandco.fr/event/training-contemporain-du-lundi-6/
LOCATION:LE LIEU – Espace de la Madeleine\, Rue Faven – GUINGAMP\, Rue Faven\, Guingamp\, 22220\, France
CATEGORIES:LE LIEU,pratique(s) pour tous
ATTACH;FMTTYPE=image/jpeg:https://www.ciegregoireandco.fr/wp-content/uploads/2020/08/training.jpg
END:VEVENT
END:VCALENDAR